BEGIN:VCALENDAR
VERSION:2.0
PRODID:-//gesuhousing.org//NONSGML kigkonsult.se iCalcreator 2.30.10//
CALSCALE:GREGORIAN
METHOD:PUBLISH
UID:c87ca869-5a4d-4ed7-b037-5d9ba9b5bd3d
X-WR-CALDESC:Approval of Minutes\n\na.      May 10\, 2023\n\n2.     Review 
 of 4th Quarter and FY 2022-23 operating results\n\na.      4th Quarter and
  FY 2022-23 Financial Report \n\nb.      Financial Statement - current\n\n
 3.     Operations update\n\n4.     Corporate Strategy/Business Development
  Update\n\n·         Review of the strategic plan draft\n\n5.     Consent 
 Agenda\n\n·         Appointment of Treasurer\n\n6.     Nominating and Gove
 rnance \n\n·         Proposed Amendments to the Corporate By-laws\n\n·    
      Vote on new member – Mary Packett\n\n·         Review of Board Manual
 \n\nExecutive Session (as needed)
X-WR-RELCALID:6fe093e67d3c37f3de9c7bcb5abb5f0a
X-WR-TIMEZONE:America/Chicago
BEGIN:VTIMEZONE
TZID:America/Chicago
BEGIN:STANDARD
TZNAME:CST
DTSTART:20231105T020000
TZOFFSETFROM:-0500
TZOFFSETTO:-0600
RDATE:20241103T020000
RDATE:20251102T020000
END:STANDARD
BEGIN:DAYLIGHT
TZNAME:CDT
DTSTART:20240310T020000
TZOFFSETFROM:-0600
TZOFFSETTO:-0500
RDATE:20250309T020000
END:DAYLIGHT
END:VTIMEZONE
BEGIN:VEVENT
UID:6fd4e798-4fdf-45e0-9510-7fe05235e97a
DTSTAMP:20260419T155104Z
DESCRIPTION:Approval of Minutes\n\na.      May 10\, 2023\n\n2.     Review o
 f 4th Quarter and FY 2022-23 operating results\n\na.      4th Quarter and 
 FY 2022-23 Financial Report \n\nb.      Financial Statement - current\n\n3
 .     Operations update\n\n4.     Corporate Strategy/Business Development 
 Update\n\n·         Review of the strategic plan draft\n\n5.     Consent A
 genda\n\n·         Appointment of Treasurer\n\n6.     Nominating and Gover
 nance \n\n·         Proposed Amendments to the Corporate By-laws\n\n·     
     Vote on new member – Mary Packett\n\n·         Review of Board Manual
 \n\nExecutive Session (as needed)
DTSTART;TZID=America/Chicago:20240712T000000
DTEND;TZID=America/Chicago:20240712T000000
LOCATION:7602 Pacific Street\, LL 101\,  Omaha\, NE 68114 US
SUMMARY:Gesu Housing\, Inc. Board of Directors Meeting
END:VEVENT
END:VCALENDAR
