BEGIN:VCALENDAR
VERSION:2.0
PRODID:-//gesuhousing.org//NONSGML kigkonsult.se iCalcreator 2.30.10//
CALSCALE:GREGORIAN
METHOD:PUBLISH
UID:524db6a6-f30b-4815-8006-1fc0085d9970
X-WR-CALDESC:All board meetings are held at 7602 Pacific Street\, Omaha\, N
 E 68114 unless otherwise notified. Most of the meetings are held in person
  with a Google Meet option. Meetings are scheduled 12:00 noon to 1:30 pm .
  Lunch is usually provided.  The public is welcome to attend. Please notif
 y us at 402-880-9644 or pevans@gesuhousing.org if you plan to attend.
X-WR-RELCALID:7fc1f8d28c09d10b536a1a6d0d82d036
X-WR-TIMEZONE:America/Chicago
BEGIN:VTIMEZONE
TZID:America/Chicago
BEGIN:STANDARD
TZNAME:CST
DTSTART:20241103T020000
TZOFFSETFROM:-0500
TZOFFSETTO:-0600
RDATE:20251102T020000
RDATE:20261101T020000
END:STANDARD
BEGIN:DAYLIGHT
TZNAME:CDT
DTSTART:20250309T020000
TZOFFSETFROM:-0600
TZOFFSETTO:-0500
RDATE:20260308T020000
END:DAYLIGHT
END:VTIMEZONE
BEGIN:VEVENT
UID:c68ce243-4b30-4bf4-a4a9-59709073d353
DTSTAMP:20260419T141626Z
DESCRIPTION:All board meetings are held at 7602 Pacific Street\, Omaha\, NE
  68114 unless otherwise notified. Most of the meetings are held in person 
 with a Google Meet option. Meetings are scheduled 12:00 noon to 1:30 pm . 
 Lunch is usually provided.  The public is welcome to attend. Please notify
  us at 402-880-9644 or pevans@gesuhousing.org if you plan to attend.
DTSTART;TZID=America/Chicago:20250709T120000
DTEND;TZID=America/Chicago:20250709T133000
LOCATION:7602 Pacific Street\, Omaha\, NE 68114 US
SUMMARY:Board Meeting (Annual Meeting)
END:VEVENT
END:VCALENDAR
